BEGIN:VCALENDAR
VERSION:2.0
PRODID:-// - ECPv4.3.3//NONSGML v1.0//EN
CALSCALE:GREGORIAN
METHOD:PUBLISH
X-WR-CALNAME:
X-ORIGINAL-URL:http://embassynews.net
X-WR-CALDESC:Events for 
BEGIN:VEVENT
DTSTART;VALUE=DATE:20151102
DTEND;VALUE=DATE:20151102
DTSTAMP:20260420T132559
CREATED:20151030T171242Z
LAST-MODIFIED:20151030T171309Z
UID:676-1446422400-1446508799@embassynews.net
SUMMARY:Architect Einar Jarmund at EcoWeek festival in Thessaloniki
DESCRIPTION:Architect Einar Jarmund will present 'Recent Works of Jarmund/Vigsnæs' during the EcoWeek festival in Thessaloniki on Monday 2 November.
URL:http://embassynews.net/event/676/
LOCATION:Thessaloniki\, Greece
END:VEVENT
END:VCALENDAR