BEGIN:VCALENDAR
VERSION:2.0
PRODID:-// - ECPv4.3.3//NONSGML v1.0//EN
CALSCALE:GREGORIAN
METHOD:PUBLISH
X-WR-CALNAME:
X-ORIGINAL-URL:http://embassynews.net
X-WR-CALDESC:Events for 
BEGIN:VEVENT
DTSTART;TZID=UTC+2:20151114T210000
DTEND;TZID=UTC+2:20151114T210000
DTSTAMP:20260420T101939
CREATED:20151111T113800Z
LAST-MODIFIED:20151111T114248Z
UID:890-1447534800-1447534800@embassynews.net
SUMMARY:Arch Enemy perform in Athens and Thessaloniki
DESCRIPTION:Arch Enemy\, the Swedish\, melodic\, death metal band is coming to Thessaloniki and Athens to perfrom on November 13th and 14th. The band consists of singer Alissa White-Gluz (former member of The Agonist)\, famous guitaris Jeff Loomis (Nevermore) and Michael Amott. On March 3\, 2014 the band revealed their tenth album entitled "War Eternal".\n\nThe concert is organized with the support of the Embassy of Sweden in Athens.
URL:http://embassynews.net/event/arch-enemy-perform-in-athens-and-thessaloniki/
LOCATION:205 Liosion st.\, Athens\, 10445
ATTACH;FMTTYPE=image/jpeg:http://embassynews.net/wp-content/uploads/2015/11/arch-enemy-embassynews.net_.jpg
END:VEVENT
END:VCALENDAR