BEGIN:VCALENDAR
VERSION:2.0
PRODID:-// - ECPv4.3.3//NONSGML v1.0//EN
CALSCALE:GREGORIAN
METHOD:PUBLISH
X-WR-CALNAME:
X-ORIGINAL-URL:http://embassynews.net
X-WR-CALDESC:Events for 
BEGIN:VEVENT
DTSTART;TZID=UTC+2:20151212T183000
DTEND;TZID=UTC+2:20160124T183000
DTSTAMP:20260424T084905
CREATED:20151223T084121Z
LAST-MODIFIED:20151223T084513Z
UID:1729-1449945000-1453660200@embassynews.net
SUMMARY:Ibsen's "Little Eyolf" at Angelon Vima Theatre
DESCRIPTION:The Gefyra theatre group presents Henrik Ibsen’s "Little Eyolf”\, directed by Leonidas Papadopoulos at Angelon Vima Theatre.\n\nThe play takes place in the course of a day and a half at the home of Rita and Alfred Allmers\, near the fjord and some distance from the nearest town. They have a partly paralyzed son of nine\, Eyolf. The plot develops after Alfred's return from the mountains\, where he has decided to give up his work on the treatise\, and devote himself entirely to Eyolf's happiness and progress.\n\nTranslation- Direction: Leonidas Papadopoulos\nCostumes: Giorgina German\nLighting: Katerina Maragoudaki\nMusic: George Plakoutses\nSound Editing : Sotiris Kanarelis\nAssistant Designer : Maria Espialidou - Konstantinos Kotsis\nPhotos: Stelios Daniel - Georgia Siettou\n\nCast (in alphabetical order) :\nLeonidas Argyropoulos\nIrini Grammatikopoulou\nEleni Dafni\nManthos Kalantzis\nMargarita Sava\n\nThe performance is supported by the Norwegian Institute and the Norwegian Embassy in Athens.\n\nEvery Saturday and Sunday at 18:30. Tickets: 12 euros and 8 euros for students\n\nSOURCE: Embassy of Norway
URL:http://embassynews.net/event/ibsens-little-eyolf-at-angelon-vima-theatre/
LOCATION:36\, Satovriandou street\, Omonia\, Athens\, Greece
ATTACH;FMTTYPE=image/jpeg:http://embassynews.net/wp-content/uploads/2015/12/ibsen-little-eyolf.jpg
END:VEVENT
END:VCALENDAR