BEGIN:VCALENDAR
VERSION:2.0
PRODID:-// - ECPv4.3.3//NONSGML v1.0//EN
CALSCALE:GREGORIAN
METHOD:PUBLISH
X-WR-CALNAME:
X-ORIGINAL-URL:http://embassynews.net
X-WR-CALDESC:Events for 
BEGIN:VEVENT
DTSTART;TZID=UTC+2:20151025T110000
DTEND;TZID=UTC+2:20151025T170000
DTSTAMP:20260420T101845
CREATED:20151019T113711Z
LAST-MODIFIED:20151024T185004Z
UID:397-1445770800-1445792400@embassynews.net
SUMMARY:Oktoberfest in Athens!
DESCRIPTION:Athener Shcule is about to host this year’s Oktoberfest. Traditional music\, German delicacies and lots of beer await all visitors on Saturday\, October 24th at the school’s facilities in Vrilissia.  Admission is free.
URL:http://embassynews.net/event/oktoberfest-in-athens/
LOCATION:Martiou 25th st.\, Marousi\, 15235\, Greece
ATTACH;FMTTYPE=image/png:http://embassynews.net/wp-content/uploads/2015/10/oktoberfest2-embassynews.png
END:VEVENT
END:VCALENDAR