BEGIN:VCALENDAR
VERSION:2.0
PRODID:-// - ECPv4.3.3//NONSGML v1.0//EN
CALSCALE:GREGORIAN
METHOD:PUBLISH
X-WR-CALNAME:
X-ORIGINAL-URL:http://embassynews.net
X-WR-CALDESC:Events for 
BEGIN:VEVENT
DTSTART;TZID=UTC+2:20160119T080000
DTEND;TZID=UTC+2:20160313T170000
DTSTAMP:20260420T134904
CREATED:20160115T123921Z
LAST-MODIFIED:20160115T124050Z
UID:2055-1453190400-1457888400@embassynews.net
SUMMARY:"This is War" by H. Moscovitch at Porta theatre
DESCRIPTION:"This is War"\, a play written by award-winning Canadian playwright Hannah Moscovitch and directed by internationally acclaimed Canadian stage director Alan Dilworth premiered at Porta Theatre in Athens in December\, 2015.\n\nThe intense 90-minute play sees four soldiers recount personal versions of an ill-fated mission in the most volatile region of Afghanistan. Their stories reveal how the human equation - personal relationships and sexual tensions - can affect the outcome. Step into the ravaged psyche of the contemporary soldier in uncompromising terms with this dramatic story of modern warfare.\n\nThe play has been translated into Greek by Thomas Moschopoulos and stars Anna Kalaitzidou\, Yiannis Yiannoulis\, Ilias Moulas and Anastasis Roilos.  On stage Thursdays\, Fridays and Sundays until March 13.\nAdmission is 15 euros (10 reduced).\n\nSOURCE: Embassy of Canada facebook page/Porta Theatre
URL:http://embassynews.net/event/this-is-war-by-h-moscovitch-at-porta-theatre/
ATTACH;FMTTYPE=image/jpeg:http://embassynews.net/wp-content/uploads/2016/01/this-is-war.jpg
END:VEVENT
END:VCALENDAR